BEGIN:VCALENDAR
VERSION:2.0
PRODID:-//Lydia Heinig-Ihre Kobold Vorwerk Fachberaterin - ECPv6.15.20//NONSGML v1.0//EN
CALSCALE:GREGORIAN
METHOD:PUBLISH
X-ORIGINAL-URL:https://www.lydia-heinig.de
X-WR-CALDESC:Veranstaltungen für Lydia Heinig-Ihre Kobold Vorwerk Fachberaterin
REFRESH-INTERVAL;VALUE=DURATION:PT1H
X-Robots-Tag:noindex
X-PUBLISHED-TTL:PT1H
BEGIN:VTIMEZONE
TZID:Europe/Berlin
BEGIN:DAYLIGHT
TZOFFSETFROM:+0100
TZOFFSETTO:+0200
TZNAME:CEST
DTSTART:20240331T010000
END:DAYLIGHT
BEGIN:STANDARD
TZOFFSETFROM:+0200
TZOFFSETTO:+0100
TZNAME:CET
DTSTART:20241027T010000
END:STANDARD
BEGIN:DAYLIGHT
TZOFFSETFROM:+0100
TZOFFSETTO:+0200
TZNAME:CEST
DTSTART:20250330T010000
END:DAYLIGHT
BEGIN:STANDARD
TZOFFSETFROM:+0200
TZOFFSETTO:+0100
TZNAME:CET
DTSTART:20251026T010000
END:STANDARD
BEGIN:DAYLIGHT
TZOFFSETFROM:+0100
TZOFFSETTO:+0200
TZNAME:CEST
DTSTART:20260329T010000
END:DAYLIGHT
BEGIN:STANDARD
TZOFFSETFROM:+0200
TZOFFSETTO:+0100
TZNAME:CET
DTSTART:20261025T010000
END:STANDARD
END:VTIMEZONE
BEGIN:VEVENT
DTSTART;TZID=Europe/Berlin:20251016T100000
DTEND;TZID=Europe/Berlin:20251016T180000
DTSTAMP:20260420T194439
CREATED:20251014T144639Z
LAST-MODIFIED:20251014T144639Z
UID:10000076-1760608800-1760637600@www.lydia-heinig.de
SUMMARY:infa 2025 | Hannovers Erlebnis- und Einkaufsmesse
DESCRIPTION:Es ist wieder soweit und in Hannover startet Deutschlands größte Erlebnis- und Einkaufsmesse – die INFA 2025 und ich bin mit dabei   \n  \ninfa 2025 | Erlebnis- und Einkaufsmesse in Hannover\n  \nVom Donnerstag\, den 16.10.2025 bis zum Sonntag\, den 19.10.2025 bin ich auf INFA 2025\, der Erlebnis- und Einkaufsmesse in Hannover- Laatzen zu finden. \n  \nDas Messegelände in Hannover – Laatzen liegt sehr verkehrsgünstig. Zu erreichen ist das Messegelände und damit auch die INFA 2025 zum einen über die Autobahn-Linien A2 und A7\, über den Messeschnellweg\, mit dem Zug durch den Bahnhof Messe-Laatzen\,  sowie mit den Bussen und Straßenbahnen der Hannoverschen Verkehrsbetriebe üSTRA. \n  \nAn den Veranstaltungstagen findet ihr meine Kolleginnen und Kollegen gemeinsam mit mir und unserem gesamten Reinigungs-Programm aus dem Hause Vorwerk auf dem Veranstaltungsgelände entweder in der Halle 20\, Stand C24 und Halle 21\, Stand G72. \n  \nNatürlich wie immer mit dabei sind unser innovatives Akku-Saugwischer-System VK7 in der Limited-Edition Black Panther\, unser Saugroboter Kobold VR7  sowie die komplette Reinigungssystemeinheit RB 7 und weitere interessante Angeboten. \n  \nWir freuen auf Euren BesuchEure Lydia Heinig     \n\n\n\n\nMesse Hannover
URL:https://www.lydia-heinig.de/event/infa-2025-hannovers-erlebnis-und-einkaufsmesse/2025-10-16/
LOCATION:Infa Hannover\, Messegelände Hannover\, Hannover\, Niedersachsen\, 30521\, Deutschland
CATEGORIES:Kobold on Tour
ATTACH;FMTTYPE=image/jpeg:https://www.lydia-heinig.de/wp-content/uploads/2025/10/og-infa.jpg
ORGANIZER;CN="Messe Hannover":MAILTO:https://www.meine-infa.de/de/applikation/formulare/kontakt-allgemein/?contactJson=2o9uYYETXDF7s9e1AyHBQphnDT0c0MtVcowswXuiSdh69OjxCEPvISzD0E4jZ58QKHq1ZZzA11kaKxbNLcteB2A6usrBCPmNHr2661O1ig1BoSoW2JhIs7yCgw
END:VEVENT
END:VCALENDAR